BEGIN:VCALENDAR
VERSION:2.0
PRODID:icalendar-ruby
CALSCALE:GREGORIAN
METHOD:PUBLISH
BEGIN:VEVENT
DTSTAMP:20260423T134239Z
UID:192-843634@visitmbc.org
DTSTART:20260426T154500Z
DTEND:20260426T170000Z
CLASS:PUBLIC
CREATED:20260423T081111
DESCRIPTION:Michael Draper\, Worship Leader at Temple Baptist Church in Dum
 as\, TX will be singing\, presenting his planned Mission trip to Romania\,
  and preaching the message
LAST-MODIFIED:20260423T081111
LOCATION:
SUMMARY:Michael Draper
URL;VALUE=URI:https://visitmbc.org/events/michael-draper/2026-04-26
ATTACH;FILENAME=IMG_5733 1.jpeg;FMTTYPE=image/jpeg:https://dq5pwpg1q8ru0.cl
 oudfront.net/2026/04/23/04/22/22/231ae2d5-6fc6-4d9d-91b6-04ff84f1b41b/IMG_
 5733%201.jpeg
END:VEVENT
END:VCALENDAR
